BEGIN:VCALENDAR
VERSION:2.0
PRODID:-//AICVF - ECPv6.15.15//NONSGML v1.0//EN
CALSCALE:GREGORIAN
METHOD:PUBLISH
X-WR-CALNAME:AICVF
X-ORIGINAL-URL:https://aicvf.org
X-WR-CALDESC:Évènements pour AICVF
REFRESH-INTERVAL;VALUE=DURATION:PT1H
X-Robots-Tag:noindex
X-PUBLISHED-TTL:PT1H
BEGIN:VTIMEZONE
TZID:Europe/Paris
BEGIN:DAYLIGHT
TZOFFSETFROM:+0100
TZOFFSETTO:+0200
TZNAME:CEST
DTSTART:20250330T010000
END:DAYLIGHT
BEGIN:STANDARD
TZOFFSETFROM:+0200
TZOFFSETTO:+0100
TZNAME:CET
DTSTART:20251026T010000
END:STANDARD
BEGIN:DAYLIGHT
TZOFFSETFROM:+0100
TZOFFSETTO:+0200
TZNAME:CEST
DTSTART:20260329T010000
END:DAYLIGHT
BEGIN:STANDARD
TZOFFSETFROM:+0200
TZOFFSETTO:+0100
TZNAME:CET
DTSTART:20261025T010000
END:STANDARD
BEGIN:DAYLIGHT
TZOFFSETFROM:+0100
TZOFFSETTO:+0200
TZNAME:CEST
DTSTART:20270328T010000
END:DAYLIGHT
BEGIN:STANDARD
TZOFFSETFROM:+0200
TZOFFSETTO:+0100
TZNAME:CET
DTSTART:20271031T010000
END:STANDARD
END:VTIMEZONE
BEGIN:VEVENT
DTSTART;TZID=Europe/Paris:20260521T183000
DTEND;TZID=Europe/Paris:20260521T220000
DTSTAMP:20260424T124640
CREATED:20260422T142559Z
LAST-MODIFIED:20260422T142559Z
UID:16026-1779388200-1779400800@aicvf.org
SUMMARY:RÉUNION TECHNIQUE IZUBA Energies
DESCRIPTION:IZUBA Energies – 35 rue Gine – Ecoparc – 34690 Fabrègues \nLa participation à cette soirée est gratuite et sera suivie d’un apéritif dinatoire.\nThèmes abordés :\n« les nouvelles fonctionnalités de calcul des installations géothermiques\n(dimensionnement\, calculs du sous-sol et bilans énergétiques) »\nInscriptions :\nNous vous prions de bien vouloir vous inscrire sur notre site avant le 18/05/2026.\nVeuillez noter que l’accès à la soirée sera réservé aux adhérents à jour de leur cotisation.\nNous vous remercions de respecter l’heure de début de la soirée. \nAnimé par : Jean Baptiste BEIS et Stéphane Thiers de IZUBA Energies\nBenjamin ROCHON de Weishaupt\nVisite des locaux et de l’installation géothermique
URL:https://aicvf.org/evenement/reunion-technique-izuba-energies/
LOCATION:IZUBA\, 35 rue Gine - Ecoparc\, Fabrègues\, 34690\, France
CATEGORIES:Réunion technique,Visite de site
ATTACH;FMTTYPE=image/jpeg:https://aicvf.org/wp-content/uploads/2026/04/Capture-decran-2026-04-22-162513.jpg
END:VEVENT
END:VCALENDAR